BEGIN:VCALENDAR
VERSION:2.0
PRODID:spatie/icalendar-generator
DESCRIPTION:NPO法人　岩見沢学童野球クラブのイベント
X-WR-CALDESC:NPO法人　岩見沢学童野球クラブのイベント
REFRESH-INTERVAL;VALUE=DURATION:PT1440M
X-PUBLISHED-TTL:PT1440M
BEGIN:VTIMEZONE
TZID:Asia/Tokyo
BEGIN:STANDARD
DTSTART:20230726T120000Z
TZOFFSETFROM:+0900
TZOFFSETTO:+0900
END:STANDARD
END:VTIMEZONE
BEGIN:VTIMEZONE
TZID:UTC
BEGIN:STANDARD
DTSTART:20250726T083139Z
TZOFFSETFROM:+0000
TZOFFSETTO:+0000
END:STANDARD
END:VTIMEZONE
BEGIN:VEVENT
UID:88-73
DTSTAMP:20260422T083139Z
SUMMARY:ミズノドリームカップ 札幌予選
LOCATION:
ORGANIZER;CN=npoisbc:MAILTO:npoisbc@gmail.com
DTSTART;TZID=Asia/Tokyo:20240421T120000
DTEND;TZID=Asia/Tokyo:20240421T130000
X-ALT-DESC;FMTTYPE=TEXT/HTML:IG　10：00～　VS　石狩オールスタ
 ーズB IGJr　12：00～　VS　石狩オールスターズD ミズノド
 リ&amp;hellip\;
CATEGORIES:General
URL;VALUE=URI:https://npoisbc.com/mc-events/%e3%83%9f%e3%82%ba%e3%83%8e%e3%
 83%89%e3%83%aa%e3%83%bc%e3%83%a0%e3%82%ab%e3%83%83%e3%83%97-%e6%9c%ad%e5%b
 9%8c%e4%ba%88%e9%81%b8/
METHOD:PUBLISH
END:VEVENT
END:VCALENDAR