BEGIN:VCALENDAR
VERSION:2.0
PRODID:spatie/icalendar-generator
DESCRIPTION:NPO法人　岩見沢学童野球クラブのイベント
X-WR-CALDESC:NPO法人　岩見沢学童野球クラブのイベント
REFRESH-INTERVAL;VALUE=DURATION:PT1440M
X-PUBLISHED-TTL:PT1440M
BEGIN:VTIMEZONE
TZID:Asia/Tokyo
BEGIN:STANDARD
DTSTART:20220807T000000Z
TZOFFSETFROM:+0900
TZOFFSETTO:+0900
END:STANDARD
END:VTIMEZONE
BEGIN:VTIMEZONE
TZID:UTC
BEGIN:STANDARD
DTSTART:20250724T123115Z
TZOFFSETFROM:+0000
TZOFFSETTO:+0000
END:STANDARD
END:VTIMEZONE
BEGIN:VEVENT
UID:16-11
DTSTAMP:20260420T123115Z
SUMMARY:C−1Tラウンド1　6年
LOCATION:
ORGANIZER;CN=npoisbc:MAILTO:npoisbc@gmail.com
DTSTART;TZID=Asia/Tokyo:20230504T000000
DTEND;TZID=Asia/Tokyo:20230504T010000
X-ALT-DESC;FMTTYPE=TEXT/HTML:08:00 〜 11:00　🆚札幌・東H＆室蘭
 ・八丁平G　 岩見沢市あさぎり球場
CATEGORIES:General
URL;VALUE=URI:https://npoisbc.com/mc-events/c%e2%88%921t%e3%83%a9%e3%82%a6%
 e3%83%b3%e3%83%891%e3%80%806%e5%b9%b4/
METHOD:PUBLISH
END:VEVENT
END:VCALENDAR